BEGIN:VCALENDAR
VERSION:2.0
PRODID:-//Feldenkrais in Sarasota - ECPv3.12.6//NONSGML v1.0//EN
CALSCALE:GREGORIAN
METHOD:PUBLISH
X-WR-CALNAME:Feldenkrais in Sarasota
X-ORIGINAL-URL:https://www.feldenkraisinsarasota.com
X-WR-CALDESC:Events for Feldenkrais in Sarasota
BEGIN:VEVENT
DTSTART:20250804T174500Z
DTEND:20250804T184500Z
DTSTAMP:20260419T202458Z
CREATED:20200526T234729Z
LAST-MODIFIED:20240215T221804Z
UID:6835-1754329500-1754333100@www.feldenkraisinsarasota.com
SUMMARY:Mon 5:45 Awareness Through Movement
DESCRIPTION:\n \tREGISTER & PAY INDIVIDUALLY each month for $65  --or--  REGISTER WITH SUBSCRIPTION and pay $55 each month (4 month minimum)\n\n2.  Receive an invite to Mon class from me\n\n3.   Register with ZOOM -- and voila -- see you in class!\n\nLatest Newsletter;\n\nhttps://conta.cc/2A7YFmu
URL:https://www.feldenkraisinsarasota.com/event/mon-545-awareness-through-movement/2025-08-04/
END:VEVENT
END:VCALENDAR