BEGIN:VCALENDAR
VERSION:2.0
PRODID:-//Feldenkrais in Sarasota - ECPv3.12.6//NONSGML v1.0//EN
CALSCALE:GREGORIAN
METHOD:PUBLISH
X-WR-CALNAME:Feldenkrais in Sarasota
X-ORIGINAL-URL:https://www.feldenkraisinsarasota.com
X-WR-CALDESC:Events for Feldenkrais in Sarasota
BEGIN:VEVENT
DTSTART:20220120T110000Z
DTEND:20220120T130000Z
DTSTAMP:20260423T003040Z
CREATED:20220103T190616Z
LAST-MODIFIED:20220103T191234Z
UID:6208-1642676400-1642683600@www.feldenkraisinsarasota.com
SUMMARY:Lightness of Walking Program
DESCRIPTION:Thursdays  11:00-1:00 EST  \n\nJanuary 20-February 24\n\nwww.lightnessofwalking.com\n\n 
URL:https://www.feldenkraisinsarasota.com/event/lightness-of-walking-program-2/2022-01-20/
END:VEVENT
END:VCALENDAR