BEGIN:VCALENDAR
VERSION:2.0
PRODID:-//Feldenkrais in Sarasota - ECPv3.12.6//NONSGML v1.0//EN
CALSCALE:GREGORIAN
METHOD:PUBLISH
X-WR-CALNAME:Feldenkrais in Sarasota
X-ORIGINAL-URL:https://www.feldenkraisinsarasota.com
X-WR-CALDESC:Events for Feldenkrais in Sarasota
BEGIN:VEVENT
DTSTART:20201108T110000Z
DTEND:20201108T160000Z
DTSTAMP:20260425T173839Z
CREATED:20200831T125715Z
LAST-MODIFIED:20200831T125715Z
UID:5327-1604833200-1604851200@www.feldenkraisinsarasota.com
SUMMARY:Lightness of Walking Sundays
DESCRIPTION:
URL:https://www.feldenkraisinsarasota.com/event/lightness-of-walking-sundays-2/
LOCATION:1241 Fruitville Road\, Sarasota\, FL\, 34236\, United States
GEO:27.3390814;-82.545802
X-APPLE-STRUCTURED-LOCATION;VALUE=URI;X-ADDRESS=1241 Fruitville Road Sarasota FL 34236 United States;X-APPLE-RADIUS=500;X-TITLE=1241 Fruitville Road:geo:-82.545802,27.3390814
END:VEVENT
END:VCALENDAR