BEGIN:VCALENDAR
VERSION:2.0
PRODID:-//Feldenkrais in Sarasota - ECPv3.12.6//NONSGML v1.0//EN
CALSCALE:GREGORIAN
METHOD:PUBLISH
X-WR-CALNAME:Feldenkrais in Sarasota
X-ORIGINAL-URL:https://www.feldenkraisinsarasota.com
X-WR-CALDESC:Events for Feldenkrais in Sarasota
BEGIN:VEVENT
DTSTART:20201013T110000Z
DTEND:20201013T130000Z
DTSTAMP:20260425T232641Z
CREATED:20200928T024902Z
LAST-MODIFIED:20200928T024902Z
UID:5344-1602586800-1602594000@www.feldenkraisinsarasota.com
SUMMARY:Lightness of Walking Tuesdays
DESCRIPTION:\n\n\n\n\n\nThe Lightness of Walking\,  for better Balance and a Pain free Walk \n\n\n\n\n\n\n\n\nTuesdays—October 13 - December 1\nONLINE  11:00-1:00 pm\n\n\n\n\n\n\nTwelve Feldenkrais’ Awareness through Movement@ lessons chosen to help YOU RE-DESIGN your walk.\n\n\nLearn to fine-tune your Alignment\, Balance\, Coordination — ABCs for Walking    sign up for FREE - Ebook — The ABCs for Walking\n\n\nOR  Watch on YOU-tube\n\n\nOver the years injuries\, habits and illnesses have moved us a way from that youthful\, well-balanced walk.\n\nLearn to re-embody the basic elements for walking in your OWN HOME every Tuesday for 6 weeks.\n\nYou will need a chair and carpeted or padded spot on the floor and a computer\, or mobile device with a camera\n\n\n
URL:https://www.feldenkraisinsarasota.com/event/lightness-of-walking-tuesdays/2020-10-13/
ORGANIZER;CN="feldenkraisinsarasota.com":MAILTO:bonnie@feldenkraisinsarasota.com
END:VEVENT
END:VCALENDAR