BEGIN:VCALENDAR
VERSION:2.0
PRODID:-//Feldenkrais in Sarasota - ECPv3.12.6//NONSGML v1.0//EN
CALSCALE:GREGORIAN
METHOD:PUBLISH
X-WR-CALNAME:Feldenkrais in Sarasota
X-ORIGINAL-URL:https://www.feldenkraisinsarasota.com
X-WR-CALDESC:Events for Feldenkrais in Sarasota
BEGIN:VEVENT
DTSTART:20201011T110000Z
DTEND:20201011T160000Z
DTSTAMP:20260426T030039Z
CREATED:20200831T124822Z
LAST-MODIFIED:20200831T125306Z
UID:5324-1602414000-1602432000@www.feldenkraisinsarasota.com
SUMMARY:Lightness of Walking Program Sundays
DESCRIPTION:\n\n\n\n\n\nThe Lightness of Walking Program\,\n\n\n\n\n\n\n\nfor a Better Balanced\,  Pain-Free Walk \n\n\n\n\n\n\n\nSundays  October 11\, 25\, November 8    ONLINE  11:00-1:00 .... and 2-4 pm\n\n\n\n\n\n\nTwelve Feldenkrais’ Awareness through Movement@ lessons chosen to help YOU RE-DESIGN your walk.\n\n\n\n\nsign up for FREE – Ebook — The ABCs for Walking\n\nOver the years injuries\, habits and illnesses have moved us a way from that youthful\, well-balanced walk.\n\nLearn to re-embody the basic elements for walking in your OWN HOME every Tuesday for 6 weeks.\n\nYou will need a chair and carpeted or padded spot on the floor and a computer\, or mobile device with a camera\n\n\n\n\n\n\n\n
URL:https://www.feldenkraisinsarasota.com/event/lightness-of-walking-program-sundays/2020-10-11/
ORGANIZER;CN="feldenkraisinsarasota.com":MAILTO:bonnie@feldenkraisinsarasota.com
END:VEVENT
END:VCALENDAR