BEGIN:VCALENDAR
VERSION:2.0
PRODID:-//Feldenkrais in Sarasota - ECPv3.12.6//NONSGML v1.0//EN
CALSCALE:GREGORIAN
METHOD:PUBLISH
X-WR-CALNAME:Feldenkrais in Sarasota
X-ORIGINAL-URL:https://www.feldenkraisinsarasota.com
X-WR-CALDESC:Events for Feldenkrais in Sarasota
BEGIN:VEVENT
DTSTART:20200514T160000Z
DTEND:20200514T171500Z
DTSTAMP:20260424T121616Z
CREATED:20200403T192317Z
LAST-MODIFIED:20200423T195804Z
UID:4740-1589472000-1589476500@www.feldenkraisinsarasota.com
SUMMARY:ONLINE: The Effortless Swing® for Optimal Golf
DESCRIPTION:Every golfer knows what it means to have that perfect hit -- where the ball lifts and flies with no effort at all.\n\nLearn how to optimize your ability to swing EFFORTLESSLY\, consistently and powerfully through improved movement awareness\n\nPerfect time -- These are movement lessons NOT on the golf course.\n\nONLINE classes with Mp3 to take home and follow. \n\n4:00-5:15\n\nTuesday\, May 12\, Thursday\, May 14\, Tuesday\, May 19\, Thursday\, May 21\n\nI will personally coach you through the program that you then have to help you re-organize before every golf game for an Effortless Swing!\n\nFEE:  $65 for Online classes SPECIAL IF REGISTER BEFORE May 5  --$80 for classes PLUS MP# Audio recording of the program.
URL:https://www.feldenkraisinsarasota.com/event/online-the-effortless-swing-for-optimal-golf/
ORGANIZER;CN="feldenkraisinsarasota.com":MAILTO:bonnie@feldenkraisinsarasota.com
END:VEVENT
END:VCALENDAR