BEGIN:VCALENDAR
VERSION:2.0
PRODID:-//Feldenkrais in Sarasota - ECPv3.12.6//NONSGML v1.0//EN
CALSCALE:GREGORIAN
METHOD:PUBLISH
X-WR-CALNAME:Feldenkrais in Sarasota
X-ORIGINAL-URL:https://www.feldenkraisinsarasota.com
X-WR-CALDESC:Events for Feldenkrais in Sarasota
BEGIN:VEVENT
DTSTART:20200208T100000Z
DTEND:20200208T121500Z
DTSTAMP:20260424T225028Z
CREATED:20200208T154220Z
LAST-MODIFIED:20200208T154220Z
UID:4704-1581156000-1581164100@www.feldenkraisinsarasota.com
SUMMARY:Free Your Neck and Shoulders
DESCRIPTION:Introduction to\nThe FELDENKRAIS METHOD®\n&   TOUCH TO INFORM Seminars\nDo you find your neck and shoulders tightening at the computer?  Sleeping?\nDid you ever consider that your eyes lead your head/ your neck is\nCONNECTED to your whole spine?\nDiscover a deep\, neurological process that can ease and enlighten neck and shoulder care in the future!\nDiscover easy and applicable concepts from the Feldenkrais Method  through personal experience and partner collaboration!\n \n\n 
URL:https://www.feldenkraisinsarasota.com/event/free-your-neck-and-shoulders/
LOCATION:1241 Fruitville Road\, Sarasota\, FL\, 34236\, United States
GEO:27.3390814;-82.545802
X-APPLE-STRUCTURED-LOCATION;VALUE=URI;X-ADDRESS=1241 Fruitville Road Sarasota FL 34236 United States;X-APPLE-RADIUS=500;X-TITLE=1241 Fruitville Road:geo:-82.545802,27.3390814
CATEGORIES:feldenkraisinsarasota,TOUCH TO INFORM
ORGANIZER;CN="feldenkraisinsarasota.com":MAILTO:bonnie@feldenkraisinsarasota.com
END:VEVENT
END:VCALENDAR