BEGIN:VCALENDAR
VERSION:2.0
PRODID:-//Feldenkrais in Sarasota - ECPv3.12.6//NONSGML v1.0//EN
CALSCALE:GREGORIAN
METHOD:PUBLISH
X-WR-CALNAME:Feldenkrais in Sarasota
X-ORIGINAL-URL:https://www.feldenkraisinsarasota.com
X-WR-CALDESC:Events for Feldenkrais in Sarasota
BEGIN:VEVENT
DTSTART:20190222T183000Z
DTEND:20190222T203000Z
DTSTAMP:20260424T101617Z
CREATED:20190218T194002Z
LAST-MODIFIED:20190218T194002Z
UID:4192-1550860200-1550867400@www.feldenkraisinsarasota.com
SUMMARY:Your Spiraling Spine
DESCRIPTION:District Dance Academy  Clearwater\, Florida  6:30-8:30 pm\n\nFree Class using two Feldenkrais' Awareness Through Movement® Lessons for Feldenkrais’ Awareness Through Movement®    for High Performers \n\nBonnie also teachers Feldenkrais' Awareness Through Movement® Lessons for Maintenance and Self Growth
URL:https://www.feldenkraisinsarasota.com/event/your-spiraling-spine/
LOCATION:14100 US 19 Suite 138-144\, Clearwater\, 33764\, United States
ORGANIZER;CN="feldenkraisinsarasota.com":MAILTO:bonnie@feldenkraisinsarasota.com
END:VEVENT
END:VCALENDAR