BEGIN:VCALENDAR
VERSION:2.0
PRODID:-//Feldenkrais in Sarasota - ECPv3.12.6//NONSGML v1.0//EN
CALSCALE:GREGORIAN
METHOD:PUBLISH
X-WR-CALNAME:Feldenkrais in Sarasota
X-ORIGINAL-URL:https://www.feldenkraisinsarasota.com
X-WR-CALDESC:Events for Feldenkrais in Sarasota
BEGIN:VEVENT
DTSTART:20190208T183000Z
DTEND:20190210T170000Z
DTSTAMP:20260425T130904Z
CREATED:20181124T224846Z
LAST-MODIFIED:20190130T222329Z
UID:3948-1549650600-1549818000@www.feldenkraisinsarasota.com
SUMMARY:Walking Engine Weekend
DESCRIPTION: \n\nWalking Weekend\n\nFriday  (Intro) 6:30-9:00 Freeing Your Neck and Shoulders  2 CEUs\n\n*Friday is open to anyone interested in an Introduction to The Feldenkrais Method® or TOUCH TO INFORM Seminars.                                                                                                 Saturday 9:30-5:00 Your Walking Engine\, Finding Diagonals(6 CEs)                                                                                         Sunday 9:30-5:00   Moving from and Through your FEET  (6 CEs)\n\nTake one or all three:\n\nWALKING FEB 8-10 2019 Sarasota D
URL:https://www.feldenkraisinsarasota.com/event/walking-engine-weekend/
LOCATION:1241 Fruitville Road\, Sarasota\, FL\, 34236\, United States
GEO:27.3390814;-82.545802
X-APPLE-STRUCTURED-LOCATION;VALUE=URI;X-ADDRESS=1241 Fruitville Road Sarasota FL 34236 United States;X-APPLE-RADIUS=500;X-TITLE=1241 Fruitville Road:geo:-82.545802,27.3390814
END:VEVENT
END:VCALENDAR