BEGIN:VCALENDAR
VERSION:2.0
PRODID:-//Feldenkrais in Sarasota - ECPv3.12.6//NONSGML v1.0//EN
CALSCALE:GREGORIAN
METHOD:PUBLISH
X-WR-CALNAME:Feldenkrais in Sarasota
X-ORIGINAL-URL:https://www.feldenkraisinsarasota.com
X-WR-CALDESC:Events for Feldenkrais in Sarasota
BEGIN:VEVENT
DTSTART:20190111T183000Z
DTEND:20190113T170000Z
DTSTAMP:20260424T163055Z
CREATED:20181103T143542Z
LAST-MODIFIED:20181231T022453Z
UID:3920-1547231400-1547398800@www.feldenkraisinsarasota.com
SUMMARY:CORE IN ST PETE
DESCRIPTION:TOUCH TO INFORM:  Moving from and through your CORE\, with viva La breathing\, sensing dynamic stability\, and using soft eyes and hands to recreate your CENTER.  Full Price $340  ...   minus 20% before December 28\, 2018 ....minus 10% before January 5\, 2019\n\nFriday night is an Intro to the Feldenkrais Method and TOUCH TO INFORM Seminars and is open to anyone\,  Full Price $40 ...minus\n\nFri 1-11 Viva La Breathing\n\nFri Intro  6:30-9:00 pm Viva La Breathing  (Intro) 2 CEUs for LMTs                                                                   Sat  9:30-5:00 Moving from and Through your CORE  (6 CEs)                                                                                                               Sun 9:30-5:00 Soft Eyes/Hands\, easy neck and Shoulders(6 CEs)\n\nJan 11-13\, 2019 B
URL:https://www.feldenkraisinsarasota.com/event/core-in-st-pete/
LOCATION:14100 US 19 Suite 138-144\, Clearwater\, 33764\, United States
END:VEVENT
END:VCALENDAR