BEGIN:VCALENDAR
VERSION:2.0
PRODID:-//Feldenkrais in Sarasota - ECPv3.12.6//NONSGML v1.0//EN
CALSCALE:GREGORIAN
METHOD:PUBLISH
X-WR-CALNAME:Feldenkrais in Sarasota
X-ORIGINAL-URL:https://www.feldenkraisinsarasota.com
X-WR-CALDESC:Events for Feldenkrais in Sarasota
BEGIN:VEVENT
DTSTART:20181003T163000Z
DTEND:20181003T174500Z
DTSTAMP:20260424T212637Z
CREATED:20180904T183244Z
LAST-MODIFIED:20180904T183301Z
UID:3834-1538584200-1538588700@www.feldenkraisinsarasota.com
SUMMARY:St.Pete -- Awareness Through Movement®
DESCRIPTION:Wednesdays at 4:45 pm \n\nAwareness Through Movement® Class at Hip Expressions\, 54th Street N with Bonnie Kissam\, M.A. and Phuong 'Fon' Nguyen\, P.T.\n\nOctober 3**-November 14\n\nOctober 3 is a two for one class -- Bring a Friend!\n\nCall Hip Expressions to register: 727.251.5241\n\nwww.hip-expressions.com\n\nHip EXpressions 10-2018\n\n \n\n 
URL:https://www.feldenkraisinsarasota.com/event/st-pete-awareness-through-movement/2018-10-03/
LOCATION:2033 54th Ave N\, St Petersburg\, FL\,  33714\, United States
GEO:27.8214144;-82.6609864
X-APPLE-STRUCTURED-LOCATION;VALUE=URI;X-ADDRESS=2033 54th Ave N St Petersburg FL  33714 United States;X-APPLE-RADIUS=500;X-TITLE=2033 54th Ave N:geo:-82.6609864,27.8214144
ORGANIZER;CN="feldenkraisinsarasota.com":MAILTO:bonnie@feldenkraisinsarasota.com
END:VEVENT
END:VCALENDAR