BEGIN:VCALENDAR
VERSION:2.0
PRODID:-//Feldenkrais in Sarasota - ECPv3.12.6//NONSGML v1.0//EN
CALSCALE:GREGORIAN
METHOD:PUBLISH
X-WR-CALNAME:Feldenkrais in Sarasota
X-ORIGINAL-URL:https://www.feldenkraisinsarasota.com
X-WR-CALDESC:Events for Feldenkrais in Sarasota
BEGIN:VEVENT
DTSTART:20180209T183000Z
DTEND:20180209T210000Z
DTSTAMP:20260425T103803Z
CREATED:20171112T182150Z
LAST-MODIFIED:20180130T193410Z
UID:2129-1518201000-1518210000@www.feldenkraisinsarasota.com
SUMMARY:Freeing Your Neck & Shoulders
DESCRIPTION:2018 Feb 9-11 Weekend Seminar\n\nIntroduction to both the Feldenkrais Method® and TOUCH TO INFORM Seminars.\n\n\n\n\n\nOur head follows our eyes. Our shoulder girdle\, rib cage\, pelvis and spine supports our head. Using neurological concepts from The Feldenkrais® Model\, participants will develop skills that indirectly quiet excessive tension in the muscles of the neck and shoulders so the head is freer to move – and the shoulders feel more supple.\n\nThis will be held in chairs with floor work and will involve internal listening to kinesthetic sensations and observing through touch.\n\nFee: $40 minus 10% early registration. 2CEs\n\n\n\n\n\n941.360.2248.  2 CEUs for LMTs\n\nFees:  $40 - 10% less early registration\n\n$340 for full weekend minus 20% early registration
URL:https://www.feldenkraisinsarasota.com/event/freeing-your-neck-shoulders/
LOCATION:1241 Fruitville Road\, Sarasota\, FL\, 34236\, United States
GEO:27.3390814;-82.545802
X-APPLE-STRUCTURED-LOCATION;VALUE=URI;X-ADDRESS=1241 Fruitville Road Sarasota FL 34236 United States;X-APPLE-RADIUS=500;X-TITLE=1241 Fruitville Road:geo:-82.545802,27.3390814
CATEGORIES:TOUCH TO INFORM
END:VEVENT
END:VCALENDAR