BEGIN:VCALENDAR
VERSION:2.0
PRODID:-//Feldenkrais in Sarasota - ECPv3.12.6//NONSGML v1.0//EN
CALSCALE:GREGORIAN
METHOD:PUBLISH
X-WR-CALNAME:Feldenkrais in Sarasota
X-ORIGINAL-URL:https://www.feldenkraisinsarasota.com
X-WR-CALDESC:Events for Feldenkrais in Sarasota
BEGIN:VEVENT
DTSTART:20180122T113000Z
DTEND:20180122T133000Z
DTSTAMP:20260425T115846Z
CREATED:20180108T200903Z
LAST-MODIFIED:20180109T160538Z
UID:2620-1516620600-1516627800@www.feldenkraisinsarasota.com
SUMMARY:Save Backs and Necks - The Feldenkrais Method®1
DESCRIPTION:Saving your Back and Neck2\n\n 
URL:https://www.feldenkraisinsarasota.com/event/save-backs-and-necks-the-feldenkrais-method1/
LOCATION:1241 Fruitville Road\, Sarasota\, FL\, 34236\, United States
GEO:27.3390814;-82.545802
X-APPLE-STRUCTURED-LOCATION;VALUE=URI;X-ADDRESS=1241 Fruitville Road Sarasota FL 34236 United States;X-APPLE-RADIUS=500;X-TITLE=1241 Fruitville Road:geo:-82.545802,27.3390814
ORGANIZER;CN="FeldenkraisBonnieK":MAILTO:bonnie@feldenkraisinsarasota.com
END:VEVENT
END:VCALENDAR