BEGIN:VCALENDAR
VERSION:2.0
PRODID:-//Feldenkrais in Sarasota - ECPv3.12.6//NONSGML v1.0//EN
CALSCALE:GREGORIAN
METHOD:PUBLISH
X-WR-CALNAME:Feldenkrais in Sarasota
X-ORIGINAL-URL:https://www.feldenkraisinsarasota.com
X-WR-CALDESC:Events for Feldenkrais in Sarasota
BEGIN:VEVENT
DTSTART:20171219T113000Z
DTEND:20171219T133000Z
DTSTAMP:20260425T133255Z
CREATED:20171219T202557Z
LAST-MODIFIED:20171219T203011Z
UID:2568-1513683000-1513690200@www.feldenkraisinsarasota.com
SUMMARY:Introduction to the Feldenkrais Method®
DESCRIPTION:[caption id="attachment_642" align="alignright" width="250"] Introduction to The Feldenkrais Method®[/caption]
URL:https://www.feldenkraisinsarasota.com/event/introduction-to-the-feldenkrais-method/
LOCATION:1241 Fruitville Road\, Sarasota\, FL\, 34236\, United States
GEO:27.3390814;-82.545802
X-APPLE-STRUCTURED-LOCATION;VALUE=URI;X-ADDRESS=1241 Fruitville Road Sarasota FL 34236 United States;X-APPLE-RADIUS=500;X-TITLE=1241 Fruitville Road:geo:-82.545802,27.3390814
END:VEVENT
END:VCALENDAR