BEGIN:VCALENDAR
VERSION:2.0
PRODID:-//Feldenkrais in Sarasota - ECPv3.12.6//NONSGML v1.0//EN
CALSCALE:GREGORIAN
METHOD:PUBLISH
X-WR-CALNAME:Feldenkrais in Sarasota
X-ORIGINAL-URL:https://www.feldenkraisinsarasota.com
X-WR-CALDESC:Events for Feldenkrais in Sarasota
BEGIN:VEVENT
DTSTART:20171020T183000Z
DTEND:20171022T160000Z
DTSTAMP:20260425T170325Z
CREATED:20170830T014906Z
LAST-MODIFIED:20171006T014016Z
UID:1933-1508524200-1508688000@www.feldenkraisinsarasota.com
SUMMARY:Release Your Jaw\, Your Voice ..
DESCRIPTION:TOUCH TO INFORM  Seminar --  Release Your JAW\, Your Voice and Wholeself.      Move your Tight Jaw into a Light Jaw   15 CEUs for LMTs\n\nThis seminar includes Awareness Through Movement® lessons that are small but powerful in opening up the spaces around the eyes\, ears and jaw joint\, finding an even balance in one's posture and learning to go 'slow' looking for natural resting length.  You can learn to quiet your clenching -- even in your sleep.\nTMJ Oct 20-22\n\nCall 941.587.4535 or register online
URL:https://www.feldenkraisinsarasota.com/event/release-your-jaw-your-voice/
LOCATION:685 30th Avenue  North\, St. Petersburg\, FL\, United States
GEO:27.799654;-82.64241
X-APPLE-STRUCTURED-LOCATION;VALUE=URI;X-ADDRESS=685 30th Avenue  North St. Petersburg FL United States;X-APPLE-RADIUS=500;X-TITLE=685 30th Avenue  North:geo:-82.64241,27.799654
CATEGORIES:TOUCH TO INFORM
END:VEVENT
END:VCALENDAR