BEGIN:VCALENDAR
VERSION:2.0
PRODID:-//Feldenkrais in Sarasota - ECPv3.12.6//NONSGML v1.0//EN
CALSCALE:GREGORIAN
METHOD:PUBLISH
X-WR-CALNAME:Feldenkrais in Sarasota
X-ORIGINAL-URL:https://www.feldenkraisinsarasota.com
X-WR-CALDESC:Events for Feldenkrais in Sarasota
BEGIN:VEVENT
DTSTART:20170604T100000Z
DTEND:20170604T170000Z
DTSTAMP:20260425T234410Z
CREATED:20161126T042935Z
LAST-MODIFIED:20170530T153319Z
UID:1348-1496570400-1496595600@www.feldenkraisinsarasota.com
SUMMARY:Soft eyes/hands\, Easy Neck/shoulders
DESCRIPTION:Soft Eyes/Hands\, Easy Neck/ Shoulders\n\nsoft-eyes-jun-4-re\n\nTOUCH TO INFORM Seminar\n\nhttps://www.feldenkraisinsarasota.com/touch-to-inform-seminars/\n\n$120  --\n\n\n\n\n\nYour eyes look and your head moves.\n\n\n\n\n\n\nOr\, your eyes stare and your neck stiffens.                                           Your hands clench and your shoulders stiffen.\nYour hands open softly and the tension in your shoulders quiet.\n\n\n\n\n
URL:https://www.feldenkraisinsarasota.com/event/soft-eyeshands-easy-neckshoulders-2/
LOCATION:685 30th Avenue  North\, St. Petersburg\, FL\, United States
GEO:27.799654;-82.64241
X-APPLE-STRUCTURED-LOCATION;VALUE=URI;X-ADDRESS=685 30th Avenue  North St. Petersburg FL United States;X-APPLE-RADIUS=500;X-TITLE=685 30th Avenue  North:geo:-82.64241,27.799654
END:VEVENT
END:VCALENDAR