BEGIN:VCALENDAR
VERSION:2.0
PRODID:-//Feldenkrais in Sarasota - ECPv3.12.6//NONSGML v1.0//EN
CALSCALE:GREGORIAN
METHOD:PUBLISH
X-WR-CALNAME:Feldenkrais in Sarasota
X-ORIGINAL-URL:https://www.feldenkraisinsarasota.com
X-WR-CALDESC:Events for Feldenkrais in Sarasota
BEGIN:VEVENT
DTSTART:20170602T093000Z
DTEND:20170602T180000Z
DTSTAMP:20260425T234440Z
CREATED:20170111T034120Z
LAST-MODIFIED:20170523T013954Z
UID:1454-1496395800-1496426400@www.feldenkraisinsarasota.com
SUMMARY:Appointments in St Pete
DESCRIPTION:
URL:https://www.feldenkraisinsarasota.com/event/appointments-in-st-pete/
LOCATION:8424 4th Street N\, ST Pete
GEO:27.8490697;-82.6390511
X-APPLE-STRUCTURED-LOCATION;VALUE=URI;X-ADDRESS=8424 4th Street N ST Pete;X-APPLE-RADIUS=500;X-TITLE=8424 4th Street N:geo:-82.6390511,27.8490697
ORGANIZER;CN="FeldenkraisBonnieK":MAILTO:bonnie@feldenkraisinsarasota.com
END:VEVENT
END:VCALENDAR