BEGIN:VCALENDAR
VERSION:2.0
PRODID:-//Feldenkrais in Sarasota - ECPv3.12.6//NONSGML v1.0//EN
CALSCALE:GREGORIAN
METHOD:PUBLISH
X-WR-CALNAME:Feldenkrais in Sarasota
X-ORIGINAL-URL:https://www.feldenkraisinsarasota.com
X-WR-CALDESC:Events for Feldenkrais in Sarasota
BEGIN:VEVENT
DTSTART:20170521T093000Z
DTEND:20170521T170000Z
DTSTAMP:20260426T012013Z
CREATED:20170103T182356Z
LAST-MODIFIED:20170515T025336Z
UID:1390-1495359000-1495386000@www.feldenkraisinsarasota.com
SUMMARY:Soft Eyes\, Hands\, Easy Neck\, Shoulders
DESCRIPTION:TOUCH TO INFORM Seminar\n\nWAITING LIST ___ Please call 941.587.4535\n\n\n\n\n\nYour eyes look and your head moves. Or\, your eyes stare and your neck stiffens.  Your hands clench and your shoulders stiffen. Your hands open softly and the tension in your shoulders quiet.\n\n\n\n\n\nsoft-eyes-may-21-re
URL:https://www.feldenkraisinsarasota.com/event/soft-eyes-hands-easy-neck-shoulders/
LOCATION:1241 Fruitville Road\, Sarasota\, FL\, United States
ORGANIZER;CN="TOUCH%20TO%20INFORM":MAILTO:bonnie@feldenkraisinsarasota.com
END:VEVENT
END:VCALENDAR