BEGIN:VCALENDAR
VERSION:2.0
PRODID:-//Feldenkrais in Sarasota - ECPv3.12.6//NONSGML v1.0//EN
CALSCALE:GREGORIAN
METHOD:PUBLISH
X-WR-CALNAME:Feldenkrais in Sarasota
X-ORIGINAL-URL:https://www.feldenkraisinsarasota.com
X-WR-CALDESC:Events for Feldenkrais in Sarasota
BEGIN:VEVENT
DTSTART:20170513T133000Z
DTEND:20170513T153000Z
DTSTAMP:20260426T013557Z
CREATED:20170425T164422Z
LAST-MODIFIED:20170425T164642Z
UID:1696-1494682200-1494689400@www.feldenkraisinsarasota.com
SUMMARY:Celebration for FELDENKRAIS WEEK w Bonnie K
DESCRIPTION:2 hour class at Hip Expressions May 13th from 1:30-3:30  VIVA LA BREATHING - for better posture and reduced stress! (2 CEUS for LMTs)  $25\n\nplease Contact Hip Expressions for registration:\n\nhttp://www.hip-expressions.com/workshops-show-and-events\n\n 
URL:https://www.feldenkraisinsarasota.com/event/celebration-for-feldenkrais-week-w-bonnie-k/
LOCATION:2033 54th Ave N\, St Petersburg\, FL\,  33714\, United States
GEO:27.8214144;-82.6609864
X-APPLE-STRUCTURED-LOCATION;VALUE=URI;X-ADDRESS=2033 54th Ave N St Petersburg FL  33714 United States;X-APPLE-RADIUS=500;X-TITLE=2033 54th Ave N:geo:-82.6609864,27.8214144
END:VEVENT
END:VCALENDAR