BEGIN:VCALENDAR
VERSION:2.0
PRODID:-//Feldenkrais in Sarasota - ECPv3.12.6//NONSGML v1.0//EN
CALSCALE:GREGORIAN
METHOD:PUBLISH
X-WR-CALNAME:Feldenkrais in Sarasota
X-ORIGINAL-URL:https://www.feldenkraisinsarasota.com
X-WR-CALDESC:Events for Feldenkrais in Sarasota
BEGIN:VEVENT
DTSTART:20170430T100000Z
DTEND:20170430T170000Z
DTSTAMP:20260426T025540Z
CREATED:20161126T042028Z
LAST-MODIFIED:20170315T213316Z
UID:1346-1493546400-1493571600@www.feldenkraisinsarasota.com
SUMMARY:Moving From and Through Your CORE
DESCRIPTION:Moving from and through your CORE\n\nap-30-moving-from-your-core   Touch To Inform Seminar\n\nhttps://www.feldenkraisinsarasota.com/touch-to-inform-seminars/\n\nThe 'CORE' is the most central part of ourselves.  We will have a look at the 'bones' being our CORE and how muscles organize around our ability to Balance -- and counter balance.\n\n$120\, less with early registration.
URL:https://www.feldenkraisinsarasota.com/event/moving-from-and-through-your-core-2/
LOCATION:685 30th Avenue  North\, St. Petersburg\, FL\, United States
GEO:27.799654;-82.64241
X-APPLE-STRUCTURED-LOCATION;VALUE=URI;X-ADDRESS=685 30th Avenue  North St. Petersburg FL United States;X-APPLE-RADIUS=500;X-TITLE=685 30th Avenue  North:geo:-82.64241,27.799654
CATEGORIES:feldenkraisinsarasota,TOUCH TO INFORM
END:VEVENT
END:VCALENDAR